Package: TrajectoryGeometry Version: 1.15.0 Command: E:\biocbuild\bbs-3.21-bioc\R\bin\R.exe CMD INSTALL TrajectoryGeometry StartedAt: 2025-01-31 15:33:55 -0500 (Fri, 31 Jan 2025) EndedAt: 2025-01-31 15:35:23 -0500 (Fri, 31 Jan 2025) EllapsedTime: 88.5 seconds RetCode: 0 Status: OK