Package: TrajectoryGeometry Version: 1.15.0 Command: E:\biocbuild\bbs-3.21-bioc\R\bin\R.exe CMD check --no-multiarch --install=check:TrajectoryGeometry.install-out.txt --library=E:\biocbuild\bbs-3.21-bioc\R\library --no-vignettes --timings TrajectoryGeometry_1.15.0.tar.gz StartedAt: 2025-02-01 05:53:53 -0500 (Sat, 01 Feb 2025) EndedAt: 2025-02-01 05:55:18 -0500 (Sat, 01 Feb 2025) EllapsedTime: 85.0 seconds RetCode: 0 Status: OK CheckDir: TrajectoryGeometry.Rcheck Warnings: 0