Package: TrajectoryGeometry Version: 1.15.0 Command: /Library/Frameworks/R.framework/Resources/bin/R CMD build --keep-empty-dirs --no-resave-data TrajectoryGeometry StartedAt: 2025-01-31 18:33:07 -0500 (Fri, 31 Jan 2025) EndedAt: 2025-01-31 18:37:12 -0500 (Fri, 31 Jan 2025) EllapsedTime: 244.5 seconds RetCode: 0 Status: OK PackageFile: TrajectoryGeometry_1.15.0.tar.gz PackageFileSize: 1.894 MiB