Package: TargetSearch Version: 2.9.1 Command: /home/biocbuild/R/R/bin/R CMD INSTALL TargetSearch StartedAt: 2025-01-29 19:34:46 -0000 (Wed, 29 Jan 2025) EndedAt: 2025-01-29 19:35:15 -0000 (Wed, 29 Jan 2025) EllapsedTime: 28.3 seconds RetCode: 0 Status: OK