Package: TRESS Version: 1.13.0 Command: /Library/Frameworks/R.framework/Resources/bin/R CMD INSTALL TRESS StartedAt: 2025-01-31 15:09:23 -0500 (Fri, 31 Jan 2025) EndedAt: 2025-01-31 15:09:37 -0500 (Fri, 31 Jan 2025) EllapsedTime: 13.9 seconds RetCode: 0 Status: OK