Package: TRESS Version: 1.13.0 Command: /Library/Frameworks/R.framework/Resources/bin/R CMD check --install=check:TRESS.install-out.txt --library=/Library/Frameworks/R.framework/Resources/library --no-vignettes --timings TRESS_1.13.0.tar.gz StartedAt: 2025-01-31 21:52:29 -0500 (Fri, 31 Jan 2025) EndedAt: 2025-01-31 21:54:12 -0500 (Fri, 31 Jan 2025) EllapsedTime: 103.3 seconds RetCode: 0 Status: OK CheckDir: TRESS.Rcheck Warnings: 0