Package: TPP Version: 3.35.0 Command: /home/biocbuild/bbs-3.21-bioc/R/bin/R CMD INSTALL TPP StartedAt: 2025-01-31 15:57:47 -0500 (Fri, 31 Jan 2025) EndedAt: 2025-01-31 15:58:02 -0500 (Fri, 31 Jan 2025) EllapsedTime: 14.4 seconds RetCode: 0 Status: OK