Package: TOP Version: 1.7.0 Command: /home/biocbuild/bbs-3.21-bioc/R/bin/R CMD INSTALL TOP StartedAt: 2025-01-31 16:00:59 -0500 (Fri, 31 Jan 2025) EndedAt: 2025-01-31 16:01:30 -0500 (Fri, 31 Jan 2025) EllapsedTime: 31.1 seconds RetCode: 0 Status: OK