Package: TOP Version: 1.7.0 Command: /home/biocbuild/R/R/bin/R CMD INSTALL TOP StartedAt: 2025-01-29 20:34:38 -0000 (Wed, 29 Jan 2025) EndedAt: 2025-01-29 20:35:20 -0000 (Wed, 29 Jan 2025) EllapsedTime: 42.3 seconds RetCode: 0 Status: OK