Package: TOAST Version: 1.21.0 Command: E:\biocbuild\bbs-3.21-bioc\R\bin\R.exe CMD check --no-multiarch --install=check:TOAST.install-out.txt --library=E:\biocbuild\bbs-3.21-bioc\R\library --no-vignettes --timings TOAST_1.21.0.tar.gz StartedAt: 2025-02-01 05:52:04 -0500 (Sat, 01 Feb 2025) EndedAt: 2025-02-01 05:57:38 -0500 (Sat, 01 Feb 2025) EllapsedTime: 334.5 seconds RetCode: 0 Status: OK CheckDir: TOAST.Rcheck Warnings: 0