Package: TIN Version: 1.39.0 Command: E:\biocbuild\bbs-3.21-bioc\R\bin\R.exe CMD INSTALL TIN StartedAt: 2025-01-31 16:24:26 -0500 (Fri, 31 Jan 2025) EndedAt: 2025-01-31 16:24:57 -0500 (Fri, 31 Jan 2025) EllapsedTime: 31.4 seconds RetCode: 0 Status: OK