Package: TIN Version: 1.39.0 Command: /Library/Frameworks/R.framework/Resources/bin/R CMD check --install=check:TIN.install-out.txt --library=/Library/Frameworks/R.framework/Resources/library --no-vignettes --timings TIN_1.39.0.tar.gz StartedAt: 2025-01-31 21:48:09 -0500 (Fri, 31 Jan 2025) EndedAt: 2025-01-31 21:49:21 -0500 (Fri, 31 Jan 2025) EllapsedTime: 72.0 seconds RetCode: 0 Status: OK CheckDir: TIN.Rcheck Warnings: 0