Package: TFBSTools Version: 1.45.1 Command: /home/biocbuild/bbs-3.21-bioc/R/bin/R CMD INSTALL TFBSTools StartedAt: 2025-01-31 15:27:36 -0500 (Fri, 31 Jan 2025) EndedAt: 2025-01-31 15:28:29 -0500 (Fri, 31 Jan 2025) EllapsedTime: 53.0 seconds RetCode: 0 Status: OK