Package: TFBSTools Version: 1.45.1 Command: /home/biocbuild/R/R/bin/R CMD check --install=check:TFBSTools.install-out.txt --library=/home/biocbuild/R/R/site-library --no-vignettes --timings TFBSTools_1.45.1.tar.gz StartedAt: 2025-01-28 16:04:36 -0000 (Tue, 28 Jan 2025) EndedAt: 2025-01-28 16:13:53 -0000 (Tue, 28 Jan 2025) EllapsedTime: 557.8 seconds RetCode: 0 Status: OK CheckDir: TFBSTools.Rcheck Warnings: 0