Package: TEKRABber Version: 1.11.0 Command: /Library/Frameworks/R.framework/Resources/bin/R CMD check --install=check:TEKRABber.install-out.txt --library=/Library/Frameworks/R.framework/Resources/library --no-vignettes --timings TEKRABber_1.11.0.tar.gz StartedAt: 2025-01-31 23:31:40 -0500 (Fri, 31 Jan 2025) EndedAt: 2025-01-31 23:44:18 -0500 (Fri, 31 Jan 2025) EllapsedTime: 758.3 seconds RetCode: 1 Status: ERROR CheckDir: TEKRABber.Rcheck Warnings: NA