Package: TEKRABber Version: 1.11.0 Command: /Library/Frameworks/R.framework/Resources/bin/R CMD check --install=check:TEKRABber.install-out.txt --library=/Library/Frameworks/R.framework/Resources/library --no-vignettes --timings TEKRABber_1.11.0.tar.gz StartedAt: 2025-01-31 21:45:25 -0500 (Fri, 31 Jan 2025) EndedAt: 2025-01-31 21:54:17 -0500 (Fri, 31 Jan 2025) EllapsedTime: 531.7 seconds RetCode: 1 Status: ERROR CheckDir: TEKRABber.Rcheck Warnings: NA