Package: TCGAbiolinks Version: 2.35.1 Command: /home/biocbuild/R/R/bin/R CMD INSTALL TCGAbiolinks StartedAt: 2025-01-29 20:01:55 -0000 (Wed, 29 Jan 2025) EndedAt: 2025-01-29 20:02:52 -0000 (Wed, 29 Jan 2025) EllapsedTime: 56.9 seconds RetCode: 0 Status: OK