Package: TBSignatureProfiler Version: 1.19.0 Command: /home/biocbuild/bbs-3.21-bioc/R/bin/R CMD check --install=check:TBSignatureProfiler.install-out.txt --library=/home/biocbuild/bbs-3.21-bioc/R/site-library --timings TBSignatureProfiler_1.19.0.tar.gz StartedAt: 2025-02-01 03:11:30 -0500 (Sat, 01 Feb 2025) EndedAt: 2025-02-01 03:14:00 -0500 (Sat, 01 Feb 2025) EllapsedTime: 150.2 seconds RetCode: 0 Status: OK CheckDir: TBSignatureProfiler.Rcheck Warnings: 0