Package: TAPseq Version: 1.19.0 Command: /Library/Frameworks/R.framework/Resources/bin/R CMD check --install=check:TAPseq.install-out.txt --library=/Library/Frameworks/R.framework/Resources/library --no-vignettes --timings TAPseq_1.19.0.tar.gz StartedAt: 2025-01-31 21:44:31 -0500 (Fri, 31 Jan 2025) EndedAt: 2025-01-31 21:47:56 -0500 (Fri, 31 Jan 2025) EllapsedTime: 204.6 seconds RetCode: 0 Status: WARNINGS CheckDir: TAPseq.Rcheck Warnings: 1