Package: SynExtend Version: 1.19.5 Command: rm -rf SynExtend.buildbin-libdir && mkdir SynExtend.buildbin-libdir && E:\biocbuild\bbs-3.21-bioc\R\bin\R.exe CMD INSTALL --build --library=SynExtend.buildbin-libdir SynExtend_1.19.5.tar.gz StartedAt: 2025-02-01 08:22:33 -0500 (Sat, 01 Feb 2025) EndedAt: 2025-02-01 08:23:55 -0500 (Sat, 01 Feb 2025) EllapsedTime: 82.0 seconds RetCode: 0 Status: OK PackageFile: SynExtend_1.19.5.zip PackageFileSize: 3.74 MiB