Package: SurfR Version: 1.3.6 Command: rm -rf SurfR.buildbin-libdir && mkdir SurfR.buildbin-libdir && E:\biocbuild\bbs-3.21-bioc\R\bin\R.exe CMD INSTALL --build --library=SurfR.buildbin-libdir SurfR_1.3.6.tar.gz StartedAt: 2025-02-01 08:21:49 -0500 (Sat, 01 Feb 2025) EndedAt: 2025-02-01 08:22:40 -0500 (Sat, 01 Feb 2025) EllapsedTime: 51.0 seconds RetCode: 0 Status: OK PackageFile: SurfR_1.3.6.zip PackageFileSize: 451 KiB