Package: SubCellBarCode Version: 1.23.0 Command: /home/biocbuild/bbs-3.21-bioc/R/bin/R CMD check --install=check:SubCellBarCode.install-out.txt --library=/home/biocbuild/bbs-3.21-bioc/R/site-library --timings SubCellBarCode_1.23.0.tar.gz StartedAt: 2025-02-01 03:04:04 -0500 (Sat, 01 Feb 2025) EndedAt: 2025-02-01 03:12:11 -0500 (Sat, 01 Feb 2025) EllapsedTime: 486.7 seconds RetCode: 0 Status: OK CheckDir: SubCellBarCode.Rcheck Warnings: 0