Package: SubCellBarCode Version: 1.23.0 Command: /Library/Frameworks/R.framework/Resources/bin/R CMD INSTALL SubCellBarCode StartedAt: 2025-02-02 15:35:20 -0500 (Sun, 02 Feb 2025) EndedAt: 2025-02-02 15:35:49 -0500 (Sun, 02 Feb 2025) EllapsedTime: 29.5 seconds RetCode: 0 Status: OK