Package: SubCellBarCode Version: 1.23.0 Command: /Library/Frameworks/R.framework/Resources/bin/R CMD check --install=check:SubCellBarCode.install-out.txt --library=/Library/Frameworks/R.framework/Resources/library --no-vignettes --timings SubCellBarCode_1.23.0.tar.gz StartedAt: 2025-02-02 23:30:36 -0500 (Sun, 02 Feb 2025) EndedAt: 2025-02-02 23:34:27 -0500 (Sun, 02 Feb 2025) EllapsedTime: 230.9 seconds RetCode: 0 Status: OK CheckDir: SubCellBarCode.Rcheck Warnings: 0