Package: SubCellBarCode Version: 1.23.0 Command: /Library/Frameworks/R.framework/Resources/bin/R CMD build --keep-empty-dirs --no-resave-data SubCellBarCode StartedAt: 2025-02-02 18:25:10 -0500 (Sun, 02 Feb 2025) EndedAt: 2025-02-02 18:29:11 -0500 (Sun, 02 Feb 2025) EllapsedTime: 241.1 seconds RetCode: 0 Status: OK PackageFile: SubCellBarCode_1.23.0.tar.gz PackageFileSize: 2.356 MiB