Package: SubCellBarCode Version: 1.23.0 Command: rm -rf SubCellBarCode.buildbin-libdir && mkdir SubCellBarCode.buildbin-libdir && /Users/biocbuild/BBS/utils/build-universal.sh SubCellBarCode_1.23.0.tar.gz /Library/Frameworks/R.framework/Resources/bin/R SubCellBarCode.buildbin-libdir StartedAt: 2025-02-03 00:48:06 -0500 (Mon, 03 Feb 2025) EndedAt: 2025-02-03 00:48:39 -0500 (Mon, 03 Feb 2025) EllapsedTime: 32.4 seconds RetCode: 0 Status: OK PackageFile: SubCellBarCode_1.23.0.tgz PackageFileSize: 2.757 MiB