Package: Structstrings Version: 1.23.1 Command: rm -rf Structstrings.buildbin-libdir && mkdir Structstrings.buildbin-libdir && E:\biocbuild\bbs-3.21-bioc\R\bin\R.exe CMD INSTALL --build --library=Structstrings.buildbin-libdir Structstrings_1.23.1.tar.gz StartedAt: 2025-02-01 08:21:23 -0500 (Sat, 01 Feb 2025) EndedAt: 2025-02-01 08:22:34 -0500 (Sat, 01 Feb 2025) EllapsedTime: 71.6 seconds RetCode: 0 Status: OK PackageFile: Structstrings_1.23.1.zip PackageFileSize: 805.7 KiB