Package: SpotSweeper Version: 1.3.3 Command: /home/biocbuild/bbs-3.21-bioc/R/bin/R CMD INSTALL SpotSweeper StartedAt: 2025-01-31 15:54:35 -0500 (Fri, 31 Jan 2025) EndedAt: 2025-01-31 15:55:12 -0500 (Fri, 31 Jan 2025) EllapsedTime: 37.7 seconds RetCode: 0 Status: OK