Package: SpotSweeper Version: 1.3.3 Command: /home/biocbuild/bbs-3.21-bioc/R/bin/R CMD check --install=check:SpotSweeper.install-out.txt --library=/home/biocbuild/bbs-3.21-bioc/R/site-library --timings SpotSweeper_1.3.3.tar.gz StartedAt: 2025-02-01 02:57:03 -0500 (Sat, 01 Feb 2025) EndedAt: 2025-02-01 03:06:47 -0500 (Sat, 01 Feb 2025) EllapsedTime: 584.7 seconds RetCode: 0 Status: OK CheckDir: SpotSweeper.Rcheck Warnings: 0