Package: SpotClean Version: 1.9.0 Command: E:\biocbuild\bbs-3.21-bioc\R\bin\R.exe CMD INSTALL SpotClean StartedAt: 2025-01-31 16:34:18 -0500 (Fri, 31 Jan 2025) EndedAt: 2025-01-31 16:35:06 -0500 (Fri, 31 Jan 2025) EllapsedTime: 48.3 seconds RetCode: 0 Status: OK