Package: SpotClean Version: 1.9.0 Command: /home/biocbuild/R/R/bin/R CMD check --install=check:SpotClean.install-out.txt --library=/home/biocbuild/R/R/site-library --no-vignettes --timings SpotClean_1.9.0.tar.gz StartedAt: 2025-01-28 15:43:48 -0000 (Tue, 28 Jan 2025) EndedAt: 2025-01-28 15:57:56 -0000 (Tue, 28 Jan 2025) EllapsedTime: 848.1 seconds RetCode: 0 Status: OK CheckDir: SpotClean.Rcheck Warnings: 0