Package: SpotClean Version: 1.9.0 Command: /home/biocbuild/R/R/bin/R CMD build --keep-empty-dirs --no-resave-data SpotClean StartedAt: 2025-01-28 02:42:28 -0000 (Tue, 28 Jan 2025) EndedAt: 2025-01-28 02:47:51 -0000 (Tue, 28 Jan 2025) EllapsedTime: 323.2 seconds RetCode: 0 Status: OK PackageFile: SpotClean_1.9.0.tar.gz PackageFileSize: 2.26 MiB