Package: SplicingFactory Version: 1.15.0 Command: /home/biocbuild/bbs-3.21-bioc/R/bin/R CMD build --keep-empty-dirs --no-resave-data SplicingFactory StartedAt: 2025-01-31 19:27:27 -0500 (Fri, 31 Jan 2025) EndedAt: 2025-01-31 19:28:01 -0500 (Fri, 31 Jan 2025) EllapsedTime: 34.0 seconds RetCode: 0 Status: OK PackageFile: SplicingFactory_1.15.0.tar.gz PackageFileSize: 755 KiB