Package: SpectralTAD Version: 1.23.0 Command: E:\biocbuild\bbs-3.21-bioc\R\bin\R.exe CMD INSTALL SpectralTAD StartedAt: 2025-01-31 15:50:29 -0500 (Fri, 31 Jan 2025) EndedAt: 2025-01-31 15:50:45 -0500 (Fri, 31 Jan 2025) EllapsedTime: 16.3 seconds RetCode: 0 Status: OK