Package: SpectralTAD Version: 1.23.0 Command: E:\biocbuild\bbs-3.21-bioc\R\bin\R.exe CMD check --no-multiarch --install=check:SpectralTAD.install-out.txt --library=E:\biocbuild\bbs-3.21-bioc\R\library --no-vignettes --timings SpectralTAD_1.23.0.tar.gz StartedAt: 2025-02-01 05:24:03 -0500 (Sat, 01 Feb 2025) EndedAt: 2025-02-01 05:26:25 -0500 (Sat, 01 Feb 2025) EllapsedTime: 142.5 seconds RetCode: 0 Status: OK CheckDir: SpectralTAD.Rcheck Warnings: 0