Package: Spectra Version: 1.17.5 Command: E:\biocbuild\bbs-3.21-bioc\R\bin\R.exe CMD INSTALL Spectra StartedAt: 2025-01-31 15:36:52 -0500 (Fri, 31 Jan 2025) EndedAt: 2025-01-31 15:38:21 -0500 (Fri, 31 Jan 2025) EllapsedTime: 89.1 seconds RetCode: 0 Status: OK