Package: Spectra Version: 1.17.5 Command: chmod a+r Spectra -R && E:\biocbuild\bbs-3.21-bioc\R\bin\R.exe CMD build --keep-empty-dirs --no-resave-data Spectra StartedAt: 2025-01-31 21:35:33 -0500 (Fri, 31 Jan 2025) EndedAt: 2025-01-31 21:37:28 -0500 (Fri, 31 Jan 2025) EllapsedTime: 115.0 seconds RetCode: 0 Status: OK PackageFile: Spectra_1.17.5.tar.gz PackageFileSize: 1.399 MiB