Package: Spectra Version: 1.17.5 Command: /home/biocbuild/R/R/bin/R CMD INSTALL Spectra StartedAt: 2025-01-29 19:45:18 -0000 (Wed, 29 Jan 2025) EndedAt: 2025-01-29 19:45:38 -0000 (Wed, 29 Jan 2025) EllapsedTime: 20.1 seconds RetCode: 0 Status: OK