Package: Spectra Version: 1.17.5 Command: /Library/Frameworks/R.framework/Resources/bin/R CMD check --install=check:Spectra.install-out.txt --library=/Library/Frameworks/R.framework/Resources/library --no-vignettes --timings Spectra_1.17.5.tar.gz StartedAt: 2025-01-31 21:34:45 -0500 (Fri, 31 Jan 2025) EndedAt: 2025-01-31 21:37:52 -0500 (Fri, 31 Jan 2025) EllapsedTime: 187.1 seconds RetCode: 0 Status: OK CheckDir: Spectra.Rcheck Warnings: 0