Package: SpatialOmicsOverlay Version: 1.7.0 Command: /Library/Frameworks/R.framework/Resources/bin/R CMD build --keep-empty-dirs --no-resave-data SpatialOmicsOverlay StartedAt: 2025-01-31 18:21:58 -0500 (Fri, 31 Jan 2025) EndedAt: 2025-01-31 18:28:59 -0500 (Fri, 31 Jan 2025) EllapsedTime: 421.3 seconds RetCode: 0 Status: OK PackageFile: SpatialOmicsOverlay_1.7.0.tar.gz PackageFileSize: 4.497 MiB