Package: SpatialFeatureExperiment Version: 1.9.7 Command: /Library/Frameworks/R.framework/Resources/bin/R CMD INSTALL SpatialFeatureExperiment StartedAt: 2025-01-31 15:21:08 -0500 (Fri, 31 Jan 2025) EndedAt: 2025-01-31 15:21:29 -0500 (Fri, 31 Jan 2025) EllapsedTime: 21.0 seconds RetCode: 0 Status: OK