Package: SpatialFeatureExperiment Version: 1.9.7 Command: rm -rf SpatialFeatureExperiment.buildbin-libdir && mkdir SpatialFeatureExperiment.buildbin-libdir && /Users/biocbuild/BBS/utils/build-universal.sh SpatialFeatureExperiment_1.9.7.tar.gz /Library/Frameworks/R.framework/Resources/bin/R SpatialFeatureExperiment.buildbin-libdir StartedAt: 2025-01-31 22:33:51 -0500 (Fri, 31 Jan 2025) EndedAt: 2025-01-31 22:34:14 -0500 (Fri, 31 Jan 2025) EllapsedTime: 23.5 seconds RetCode: 0 Status: OK PackageFile: SpatialFeatureExperiment_1.9.7.tgz PackageFileSize: 2.891 MiB