Package: SingleR Version: 2.9.4 Command: E:\biocbuild\bbs-3.21-bioc\R\bin\R.exe CMD check --no-multiarch --install=check:SingleR.install-out.txt --library=E:\biocbuild\bbs-3.21-bioc\R\library --no-vignettes --timings SingleR_2.9.4.tar.gz StartedAt: 2025-02-01 05:11:31 -0500 (Sat, 01 Feb 2025) EndedAt: 2025-02-01 05:16:44 -0500 (Sat, 01 Feb 2025) EllapsedTime: 312.5 seconds RetCode: 0 Status: OK CheckDir: SingleR.Rcheck Warnings: 0