Package: SimFFPE Version: 1.19.0 Command: /Library/Frameworks/R.framework/Resources/bin/R CMD build --keep-empty-dirs --no-resave-data SimFFPE StartedAt: 2025-01-31 18:17:50 -0500 (Fri, 31 Jan 2025) EndedAt: 2025-01-31 18:19:38 -0500 (Fri, 31 Jan 2025) EllapsedTime: 107.7 seconds RetCode: 0 Status: OK PackageFile: SimFFPE_1.19.0.tar.gz PackageFileSize: 750.5 KiB