Package: SimFFPE Version: 1.19.0 Command: /Library/Frameworks/R.framework/Resources/bin/R CMD check --install=check:SimFFPE.install-out.txt --library=/Library/Frameworks/R.framework/Resources/library --no-vignettes --timings SimFFPE_1.19.0.tar.gz StartedAt: 2025-01-31 21:26:22 -0500 (Fri, 31 Jan 2025) EndedAt: 2025-01-31 21:27:48 -0500 (Fri, 31 Jan 2025) EllapsedTime: 86.1 seconds RetCode: 0 Status: OK CheckDir: SimFFPE.Rcheck Warnings: 0