Package: SimFFPE Version: 1.19.0 Command: /Library/Frameworks/R.framework/Resources/bin/R CMD build --keep-empty-dirs --no-resave-data SimFFPE StartedAt: 2025-01-31 17:38:43 -0500 (Fri, 31 Jan 2025) EndedAt: 2025-01-31 17:39:19 -0500 (Fri, 31 Jan 2025) EllapsedTime: 35.4 seconds RetCode: 0 Status: OK PackageFile: SimFFPE_1.19.0.tar.gz PackageFileSize: 750.2 KiB