Package: SimBu Version: 1.9.0 Command: /Library/Frameworks/R.framework/Resources/bin/R CMD INSTALL SimBu StartedAt: 2025-01-31 15:38:56 -0500 (Fri, 31 Jan 2025) EndedAt: 2025-01-31 15:39:05 -0500 (Fri, 31 Jan 2025) EllapsedTime: 9.4 seconds RetCode: 0 Status: OK