Package: SimBu Version: 1.9.0 Command: rm -rf SimBu.buildbin-libdir && mkdir SimBu.buildbin-libdir && /Users/biocbuild/BBS/utils/build-universal.sh SimBu_1.9.0.tar.gz /Library/Frameworks/R.framework/Resources/bin/R SimBu.buildbin-libdir StartedAt: 2025-02-01 00:40:00 -0500 (Sat, 01 Feb 2025) EndedAt: 2025-02-01 00:40:15 -0500 (Sat, 01 Feb 2025) EllapsedTime: 14.1 seconds RetCode: 0 Status: OK PackageFile: SimBu_1.9.0.tgz PackageFileSize: 324 KiB