Package: SimBu Version: 1.9.0 Command: rm -rf SimBu.buildbin-libdir && mkdir SimBu.buildbin-libdir && /Users/biocbuild/BBS/utils/build-universal.sh SimBu_1.9.0.tar.gz /Library/Frameworks/R.framework/Resources/bin/R SimBu.buildbin-libdir StartedAt: 2025-01-31 22:33:01 -0500 (Fri, 31 Jan 2025) EndedAt: 2025-01-31 22:33:05 -0500 (Fri, 31 Jan 2025) EllapsedTime: 4.1 seconds RetCode: 0 Status: OK PackageFile: SimBu_1.9.0.tgz PackageFileSize: 326.1 KiB