Package: SigsPack Version: 1.21.0 Command: /home/biocbuild/bbs-3.21-bioc/R/bin/R CMD check --install=check:SigsPack.install-out.txt --library=/home/biocbuild/bbs-3.21-bioc/R/site-library --timings SigsPack_1.21.0.tar.gz StartedAt: 2025-02-01 02:34:58 -0500 (Sat, 01 Feb 2025) EndedAt: 2025-02-01 02:38:39 -0500 (Sat, 01 Feb 2025) EllapsedTime: 221.3 seconds RetCode: 0 Status: OK CheckDir: SigsPack.Rcheck Warnings: 0